BEGIN:VCALENDAR
VERSION:2.0
PRODID:-//Capital Region Vegan Network - ECPv6.10.1//NONSGML v1.0//EN
CALSCALE:GREGORIAN
METHOD:PUBLISH
X-ORIGINAL-URL:https://capregionvegans.org
X-WR-CALDESC:Events for Capital Region Vegan Network
REFRESH-INTERVAL;VALUE=DURATION:PT1H
X-Robots-Tag:noindex
X-PUBLISHED-TTL:PT1H
BEGIN:VTIMEZONE
TZID:America/New_York
BEGIN:DAYLIGHT
TZOFFSETFROM:-0500
TZOFFSETTO:-0400
TZNAME:EDT
DTSTART:20260308T070000
END:DAYLIGHT
BEGIN:STANDARD
TZOFFSETFROM:-0400
TZOFFSETTO:-0500
TZNAME:EST
DTSTART:20261101T060000
END:STANDARD
END:VTIMEZONE
BEGIN:VEVENT
DTSTART;TZID=America/New_York:20260426T130000
DTEND;TZID=America/New_York:20260426T150000
DTSTAMP:20260423T052804
CREATED:20260408T165957Z
LAST-MODIFIED:20260415T170534Z
UID:13700-1777208400-1777215600@capregionvegans.org
SUMMARY:Vegan High Tea
DESCRIPTION:Join Us for High Tea on Sunday\, April 26th. This year’s event will be held at The Red Barn at 100 Town Park Rd\, East Greenbush\, NY. \nEnjoy an elegant afternoon of exquisite teas\, delicious vegan treats\, and wonderful company\, all while supporting a great cause! \nA portion of every ticket supports 3 local animal sanctuaries: Broome Animal Sanctuary\, Mini Mountain Farm\, and Song of the Robin Animal Sanctuary. Food generously provided by Happy Sprouts Goodies and Rock Hill Bakehouse \nTickets:\n$35 for CRVN Members\n$42 for the Public\nhttps://www.zeffy.com/en-US/ticketing/4262026-high-tea
URL:https://capregionvegans.org/event/vegan-high-tea/
LOCATION:East Greenbush Town Park\, 100 Town Park Road\, East Greenbush\, NY\, 12061\, United States
END:VEVENT
BEGIN:VEVENT
DTSTART;TZID=America/New_York:20260507T180000
DTEND;TZID=America/New_York:20260507T200000
DTSTAMP:20260423T052804
CREATED:20260415T195547Z
LAST-MODIFIED:20260415T195656Z
UID:13713-1778176800-1778184000@capregionvegans.org
SUMMARY:CRVN Cooking Series: Thai Flavors of Spring
DESCRIPTION:On Thursday\, May 7th\, 6:00 PM-8:00 PM\, we invite you to CRVN’s Thai Flavors of Spring in Albany (location will be provided at registration). \nCLICK HERE TO REGISTER \nWhat to Expect:\n– Hands-on cooking from start to finish\n– Step-by-step guidance with plenty of tips and tricks along the way\n– Whole-food\, plant-based ingredients \n-Sit down together and enjoy the full meal you’ve created \nOn the Menu: \nMassaman curry: Rich\, warming\, and gently spiced — a Thai classic with a whole-food plant-based twist. \nThai spring rolls:  Fresh\, crisp\, and stuffed with vibrant spring vegetables and herbs. \nPerfectly steamed rice: The foundation of every great Thai meal. \nCoconut mango agar dessert: A stunning\, silky plant-based dessert that’s as beautiful as it is delicious. Creamy coconut meets sweet tropical mango in a jiggly finish you won’t forget. \nTickets:\n$25 for CRVN Members (Enjoy discounts at local businesses + other perks\, learn more here!)\n$32 for the Public \nDue to limited seating\, tickets to the CRVN Cooking Class Series sell out quickly. We recommend purchasing your tickets early!
URL:https://capregionvegans.org/event/crvn-cooking-series-thai-flavors-of-spring/
LOCATION:NY
END:VEVENT
END:VCALENDAR